BEGIN:VCALENDAR
VERSION:2.0
PRODID:-//ChamberMaster//Event Calendar 2.0//EN
METHOD:PUBLISH
X-PUBLISHED-TTL:P3D
REFRESH-INTERVAL:P3D
CALSCALE:GREGORIAN
BEGIN:VEVENT
DTSTART:20241023T140000Z
DTEND:20241023T190000Z
X-MICROSOFT-CDO-ALLDAYEVENT:FALSE
SUMMARY:Dogwood Crafters Class - Paint a Fall Themed Barn Quilt Day 2
DESCRIPTION:Learn to paint a fall themed barn quilt with Deborah Freedman Day 2
X-ALT-DESC;FMTTYPE=text/html:Learn to paint a fall themed barn quilt with Deborah Freedman Day 2
LOCATION:Classes are held at the Masonic Lodge #459\, 223 Wilkes Crescent Circle\, Sylva. From Business 23 between Sylva and Dillsboro\, turn on Wilkes Crescent Drive. At the top of the hill there is a large water tower\; turn on the drive near the gate and go through the gate.
UID:e.1140.70642
SEQUENCE:3
DTSTAMP:20260422T102855Z
URL:https://tourism.mountainlovers.com/events/details/dogwood-crafters-class-paint-a-fall-themed-barn-quilt-day-2-70642
END:VEVENT

END:VCALENDAR
