BEGIN:VCALENDAR
VERSION:2.0
PRODID:-//ChamberMaster//Event Calendar 2.0//EN
METHOD:PUBLISH
X-PUBLISHED-TTL:P3D
REFRESH-INTERVAL:P3D
CALSCALE:GREGORIAN
BEGIN:VEVENT
DTSTART:20260821T170000Z
DTEND:20260821T200000Z
X-MICROSOFT-CDO-ALLDAYEVENT:FALSE
SUMMARY:Acrylic Painting Class
DESCRIPTION:Even if you wouldn't call yourself a painter\, you'll leave this class with something colorful and personal. Instructor Barbara Brook guides you through simple painting techniques to create beautiful\, nature-inspired designs. (Many patterns to choose from.) Each participant will paint four coffee cups   to share or to keep as reminders of their creativity. Tuition $25 Register by Monday\, August 17
X-ALT-DESC;FMTTYPE=text/html:Even if you wouldn&rsquo\;t call yourself a painter\, you&rsquo\;ll leave this class with something colorful and personal. Instructor Barbara Brook guides you through simple painting techniques to create beautiful\, nature-inspired designs. (Many patterns to choose from.) Each participant will paint four coffee cups &ndash\; to share or to keep as reminders of their creativity. Tuition $25 Register by Monday\, August 17
LOCATION:Stecoah Valley Center 121 Schoolhouse Rd Robbinsville\, NC 28771
UID:e.1140.72333
SEQUENCE:3
DTSTAMP:20260421T120250Z
URL:https://tourism.mountainlovers.com/events/details/acrylic-painting-class-72333
END:VEVENT

END:VCALENDAR
