BEGIN:VCALENDAR
VERSION:2.0
PRODID:-//ChamberMaster//Event Calendar 2.0//EN
METHOD:PUBLISH
X-PUBLISHED-TTL:P3D
REFRESH-INTERVAL:P3D
CALSCALE:GREGORIAN
BEGIN:VEVENT
DTSTART:20240524T230000Z
DTEND:20240525T010000Z
X-MICROSOFT-CDO-ALLDAYEVENT:FALSE
SUMMARY:2024 Concerts on the Creek - Friday May 24
DESCRIPTION:Concerts on the Creek  \n\nTLQ+2
X-ALT-DESC;FMTTYPE=text/html:Concerts on the Creek&nbsp\;&nbsp\;<br />\nTLQ+2
LOCATION:Bridge Park Pavilion
UID:e.1140.70592
SEQUENCE:3
DTSTAMP:20260423T032825Z
URL:https://tourism.mountainlovers.com/events/details/2024-concerts-on-the-creek-friday-may-24-70592
END:VEVENT

END:VCALENDAR
