BEGIN:VCALENDAR
VERSION:2.0
PRODID:-//ChamberMaster//Event Calendar 2.0//EN
METHOD:PUBLISH
X-PUBLISHED-TTL:P3D
REFRESH-INTERVAL:P3D
CALSCALE:GREGORIAN
BEGIN:VEVENT
DTSTART:20250510T140000Z
DTEND:20250510T200000Z
X-MICROSOFT-CDO-ALLDAYEVENT:FALSE
SUMMARY:WNC Birdfest 2025
DESCRIPTION:Join Balsam Mountain Trust and local conservation organizations at our 7th annual WNC Bird Festival! SATURDAY MAY 10: 10am - 4pm: BirdFest @ Monteith Farmstead and Community Park in Dillsboro NC 7pm - 10pm: Bird Trivia After-Party @ Innovation Station\, Dillsboro\, NC SUNDAY MAY 11: 8am - 12pm: Morning Bird Walk (details & registration at festival on May 10) All events are FREE and OPEN TO ALL! WNC BirdFest is an event to celebrate World Migratory Bird Day and this year's theme is "Shared Spaces: Creating Bird-Friendly Cities & Communities." Festivities will include Guided Bird & Nature Walks\, Live Music\, Local Artists\, Family-Friendly Activities & Crafts\, Conservation Organizations\, Value-Aligned Local Businesses\, a Free-to-Enter Raffle with over $1500 in prizes & More! This event is proudly sponsored by the Jackson County Tourism and Development Authority and Vortex Optics.
X-ALT-DESC;FMTTYPE=text/html:Join Balsam Mountain Trust and local conservation organizations at our 7th annual WNC Bird Festival! SATURDAY MAY 10: 10am - 4pm: BirdFest @ Monteith Farmstead and Community Park in Dillsboro NC 7pm - 10pm: Bird Trivia After-Party @ Innovation Station\, Dillsboro\, NC SUNDAY MAY 11: 8am - 12pm: Morning Bird Walk (details &amp\; registration at festival on May 10) All events are FREE and OPEN TO ALL! WNC BirdFest is an event to celebrate World Migratory Bird Day and this year&#39\;s theme is &quot\;Shared Spaces: Creating Bird-Friendly Cities &amp\; Communities.&quot\; Festivities will include Guided Bird &amp\; Nature Walks\, Live Music\, Local Artists\, Family-Friendly Activities &amp\; Crafts\, Conservation Organizations\, Value-Aligned Local Businesses\, a Free-to-Enter Raffle with over $1500 in prizes &amp\; More! This event is proudly sponsored by the Jackson County Tourism and Development Authority and Vortex Optics.
LOCATION:Monteith Farmstead & Community Park 1381 W Hometown Pl #316\, Sylva\, NC 28779
UID:e.1140.72008
SEQUENCE:3
DTSTAMP:20260420T154446Z
URL:http://tourism.mountainlovers.com/events/details/wnc-birdfest-2025-72008
END:VEVENT

END:VCALENDAR
