BEGIN:VCALENDAR
VERSION:2.0
PRODID:-//ChamberMaster//Event Calendar 2.0//EN
METHOD:PUBLISH
X-PUBLISHED-TTL:P3D
REFRESH-INTERVAL:P3D
CALSCALE:GREGORIAN
BEGIN:VEVENT
DTSTART:20231209T200000Z
DTEND:20231209T223000Z
X-MICROSOFT-CDO-ALLDAYEVENT:FALSE
SUMMARY:The Nutcracker featuring The Ballet Conservatory of Asheville
DESCRIPTION:Join Bardo Arts Center for a magically festive\, full-length version of The Nutcracker featuring professional classical dancers and the Ballet Conservatory of Asheville's celebrated pre-professional company. Having crept downstairs at midnight on Christmas Eve to play with her new Nutcracker doll\, a young girl is swept up in a fantasy of toy soldiers\, giant rats\, snow fairies\, magic\, and mystery. After saving her beloved Nutcracker from the King of the Rats\, she is whisked away to an enchanted land and dances the night away\, meeting a host of enchanting and exotic characters.
X-ALT-DESC;FMTTYPE=text/html:Join Bardo Arts Center for a magically festive\, full-length version of The Nutcracker featuring professional classical dancers and the Ballet Conservatory of Asheville&rsquo\;s celebrated pre-professional company. Having crept downstairs at midnight on Christmas Eve to play with her new Nutcracker doll\, a young girl is swept up in a fantasy of toy soldiers\, giant rats\, snow fairies\, magic\, and mystery. After saving her beloved Nutcracker from the King of the Rats\, she is whisked away to an enchanted land and dances the night away\, meeting a host of enchanting and exotic characters.
LOCATION:WCU Bardo Arts Center at 199 Centennial Drive\, Cullowhee\, NC 28723
UID:e.1140.70359
SEQUENCE:3
DTSTAMP:20260424T120043Z
URL:http://tourism.mountainlovers.com/events/details/the-nutcracker-featuring-the-ballet-conservatory-of-asheville-12-09-2023-70359
END:VEVENT

END:VCALENDAR
